BEGIN:VCALENDAR
VERSION:2.0
PRODID:icalendar-ruby
CALSCALE:GREGORIAN
METHOD:PUBLISH
BEGIN:VEVENT
DTSTAMP:20260425T212759Z
UID:5-410313@stjohn232.tithelysetup2.com
DTSTART:20260920T170000Z
DTEND:20260920T180000Z
CLASS:PUBLIC
CREATED:20260423T151929
DESCRIPTION:Sunday Worship
LAST-MODIFIED:20260423T151929
LOCATION:
SUMMARY:Sunday Worship
URL;VALUE=URI:https://stjohn232.tithelysetup2.com/events/sunday-worship/202
 6-09-20
END:VEVENT
END:VCALENDAR
