BEGIN:VCALENDAR
VERSION:2.0
PRODID:icalendar-ruby
CALSCALE:GREGORIAN
METHOD:PUBLISH
BEGIN:VEVENT
DTSTAMP:20260424T215110Z
UID:5-410301@stjohn232.tithelysetup2.com
DTSTART:20260628T170000Z
DTEND:20260628T180000Z
CLASS:PUBLIC
CREATED:20260423T151929
DESCRIPTION:Sunday Worship
LAST-MODIFIED:20260423T151929
LOCATION:
SUMMARY:Sunday Worship
URL;VALUE=URI:https://stjohn232.tithelysetup2.com/events/sunday-worship/202
 6-06-28
END:VEVENT
END:VCALENDAR
